BEGIN:VCALENDAR
VERSION:2.0
PRODID:-//Denver Kickers Sport Club Inc. - ECPv6.15.20//NONSGML v1.0//EN
CALSCALE:GREGORIAN
METHOD:PUBLISH
X-ORIGINAL-URL:https://denverkickers.com
X-WR-CALDESC:Events for Denver Kickers Sport Club Inc.
REFRESH-INTERVAL;VALUE=DURATION:PT1H
X-Robots-Tag:noindex
X-PUBLISHED-TTL:PT1H
BEGIN:VTIMEZONE
TZID:America/Denver
BEGIN:DAYLIGHT
TZOFFSETFROM:-0700
TZOFFSETTO:-0600
TZNAME:MDT
DTSTART:20230312T090000
END:DAYLIGHT
BEGIN:STANDARD
TZOFFSETFROM:-0600
TZOFFSETTO:-0700
TZNAME:MST
DTSTART:20231105T080000
END:STANDARD
BEGIN:DAYLIGHT
TZOFFSETFROM:-0700
TZOFFSETTO:-0600
TZNAME:MDT
DTSTART:20240310T090000
END:DAYLIGHT
BEGIN:STANDARD
TZOFFSETFROM:-0600
TZOFFSETTO:-0700
TZNAME:MST
DTSTART:20241103T080000
END:STANDARD
BEGIN:DAYLIGHT
TZOFFSETFROM:-0700
TZOFFSETTO:-0600
TZNAME:MDT
DTSTART:20250309T090000
END:DAYLIGHT
BEGIN:STANDARD
TZOFFSETFROM:-0600
TZOFFSETTO:-0700
TZNAME:MST
DTSTART:20251102T080000
END:STANDARD
END:VTIMEZONE
BEGIN:VEVENT
DTSTART;VALUE=DATE:20240608
DTEND;VALUE=DATE:20240609
DTSTAMP:20260425T095317
CREATED:20240418T220925Z
LAST-MODIFIED:20240515T172746Z
UID:3790-1717804800-1717891199@denverkickers.com
SUMMARY:Paint Recycling at the Denver Kickers June 8
DESCRIPTION:The Denver Kickers is hosting a paint recycling event in cooperation with the Golden Elks on Saturday\, June 8 from 10 a.m. to 2 p.m. Paint recycling is FREE and there’s no limit to the amount of paint dropped off. There are limitations on the kinds of products that can be recycled – CLICK HERE for a flyer with specific information.  \nREGISTRATION IS RECOMMENDED! Please visit  https://circular.eco/event/GS060824 \nShare this:\n				Share on Facebook (Opens in new window)\n				Facebook\n			\n				Share on X (Opens in new window)\n				X\n			\n				Share on LinkedIn (Opens in new window)\n				LinkedIn\n			\n				Email a link to a friend (Opens in new window)\n				Email\n			\n				Print (Opens in new window)\n				Print\n			More\n				Share on Reddit (Opens in new window)\n				Reddit\n			\n				Share on Pinterest (Opens in new window)\n				Pinterest\n			\n				Share on Tumblr (Opens in new window)\n				Tumblr
URL:https://denverkickers.com/event/paint-recycling-at-the-denver-kickers-june-8/
LOCATION:CO
END:VEVENT
BEGIN:VEVENT
DTSTART;VALUE=DATE:20240629
DTEND;VALUE=DATE:20240630
DTSTAMP:20260425T095317
CREATED:20240418T222546Z
LAST-MODIFIED:20240418T223603Z
UID:3798-1719619200-1719705599@denverkickers.com
SUMMARY:Colorado Elks Soccer Shoot - June 29
DESCRIPTION:Join the Denver Kickers and the Colorado Elks again this year for the Elks Youth Soccer Shoot\, a one-day event to be held on Sunday\, June 25 from 9am to noon at the Denver Kickers Clubhouse. Re-worked to decrease wait-times and increase player participation\, the event offer a diversified flex schedule\, so participants can compete at any time during the 3-hour shoot. Participation is FREE\, and top shooters will receive a prize\, plus the opportunity to advance to the state Shoot. Registration begins at 8:30am. DOWNLOAD A FLYER for more information. To register for this event\, CLICK HERE. \nShare this:\n				Share on Facebook (Opens in new window)\n				Facebook\n			\n				Share on X (Opens in new window)\n				X\n			\n				Share on LinkedIn (Opens in new window)\n				LinkedIn\n			\n				Email a link to a friend (Opens in new window)\n				Email\n			\n				Print (Opens in new window)\n				Print\n			More\n				Share on Reddit (Opens in new window)\n				Reddit\n			\n				Share on Pinterest (Opens in new window)\n				Pinterest\n			\n				Share on Tumblr (Opens in new window)\n				Tumblr
URL:https://denverkickers.com/event/colorado-elks-soccer-shoot-june-29/
LOCATION:CO
END:VEVENT
END:VCALENDAR