BEGIN:VCALENDAR
VERSION:2.0
PRODID:-//Denver Kickers Sport Club Inc. - ECPv6.15.20//NONSGML v1.0//EN
CALSCALE:GREGORIAN
METHOD:PUBLISH
X-ORIGINAL-URL:https://denverkickers.com
X-WR-CALDESC:Events for Denver Kickers Sport Club Inc.
REFRESH-INTERVAL;VALUE=DURATION:PT1H
X-Robots-Tag:noindex
X-PUBLISHED-TTL:PT1H
BEGIN:VTIMEZONE
TZID:America/Denver
BEGIN:DAYLIGHT
TZOFFSETFROM:-0700
TZOFFSETTO:-0600
TZNAME:MDT
DTSTART:20230312T090000
END:DAYLIGHT
BEGIN:STANDARD
TZOFFSETFROM:-0600
TZOFFSETTO:-0700
TZNAME:MST
DTSTART:20231105T080000
END:STANDARD
BEGIN:DAYLIGHT
TZOFFSETFROM:-0700
TZOFFSETTO:-0600
TZNAME:MDT
DTSTART:20240310T090000
END:DAYLIGHT
BEGIN:STANDARD
TZOFFSETFROM:-0600
TZOFFSETTO:-0700
TZNAME:MST
DTSTART:20241103T080000
END:STANDARD
BEGIN:DAYLIGHT
TZOFFSETFROM:-0700
TZOFFSETTO:-0600
TZNAME:MDT
DTSTART:20250309T090000
END:DAYLIGHT
BEGIN:STANDARD
TZOFFSETFROM:-0600
TZOFFSETTO:-0700
TZNAME:MST
DTSTART:20251102T080000
END:STANDARD
BEGIN:DAYLIGHT
TZOFFSETFROM:-0700
TZOFFSETTO:-0600
TZNAME:MDT
DTSTART:20260308T090000
END:DAYLIGHT
BEGIN:STANDARD
TZOFFSETFROM:-0600
TZOFFSETTO:-0700
TZNAME:MST
DTSTART:20261101T080000
END:STANDARD
BEGIN:DAYLIGHT
TZOFFSETFROM:-0700
TZOFFSETTO:-0600
TZNAME:MDT
DTSTART:20270314T090000
END:DAYLIGHT
BEGIN:STANDARD
TZOFFSETFROM:-0600
TZOFFSETTO:-0700
TZNAME:MST
DTSTART:20271107T080000
END:STANDARD
END:VTIMEZONE
BEGIN:VEVENT
DTSTART;TZID=America/Denver:20240720T090000
DTEND;TZID=America/Denver:20240720T110000
DTSTAMP:20260425T094417
CREATED:20240708T211635Z
LAST-MODIFIED:20240708T211856Z
UID:3867-1721466000-1721473200@denverkickers.com
SUMMARY:Denver Kickers 50th Avenue Clean-Up
DESCRIPTION:Denver Kickers community – we need your help! Again this year\, the Denver Kickers will be helping to better our community by participating in a road clean-up of 50th Avenue between McIntyre and Easley Roads. We need lots of hands for this event – please consider donating a few hours of your time on Saturday\, July 20 from 9-11am. Kids are welcome\, but need a 1:1 ratio with an adult for safety purposes. Meet at the Denver Kickers parking lot – donuts will be provided for all volunteers! \nShare this:\n				Share on Facebook (Opens in new window)\n				Facebook\n			\n				Share on X (Opens in new window)\n				X\n			\n				Share on LinkedIn (Opens in new window)\n				LinkedIn\n			\n				Email a link to a friend (Opens in new window)\n				Email\n			\n				Print (Opens in new window)\n				Print\n			More\n				Share on Reddit (Opens in new window)\n				Reddit\n			\n				Share on Pinterest (Opens in new window)\n				Pinterest\n			\n				Share on Tumblr (Opens in new window)\n				Tumblr
URL:https://denverkickers.com/event/50th-avenue-clean-up/
LOCATION:CO
END:VEVENT
BEGIN:VEVENT
DTSTART;TZID=America/Denver:20240805T180000
DTEND;TZID=America/Denver:20240809T180000
DTSTAMP:20260425T094417
CREATED:20240705T201834Z
LAST-MODIFIED:20240705T205714Z
UID:3853-1722880800-1723226400@denverkickers.com
SUMMARY:Summer Soccer Camp for U6-U9 Boys and Girls
DESCRIPTION:The Denver Kickers is offering a summer camp for players born in 2016-2019.  \nCamp will be held August 5-9 at the Denver Kickers Clubhouse\, 16776 W 50th Ave. in Golden\, from 6-7 pm every day.  \nCamp is $95 and includes a t-shirt. Register today! \nCLICK HERE TO REGISTER FOR CAMP!\n  \nShare this:\n				Share on Facebook (Opens in new window)\n				Facebook\n			\n				Share on X (Opens in new window)\n				X\n			\n				Share on LinkedIn (Opens in new window)\n				LinkedIn\n			\n				Email a link to a friend (Opens in new window)\n				Email\n			\n				Print (Opens in new window)\n				Print\n			More\n				Share on Reddit (Opens in new window)\n				Reddit\n			\n				Share on Pinterest (Opens in new window)\n				Pinterest\n			\n				Share on Tumblr (Opens in new window)\n				Tumblr
URL:https://denverkickers.com/event/summer-soccer-camp-for-u6-u9-boys-and-girls/
LOCATION:CO
END:VEVENT
BEGIN:VEVENT
DTSTART;VALUE=DATE:20240913
DTEND;VALUE=DATE:20240916
DTSTAMP:20260425T094417
CREATED:20240418T222913Z
LAST-MODIFIED:20240809T161547Z
UID:3803-1726185600-1726444799@denverkickers.com
SUMMARY:Oktoberfest 2024
DESCRIPTION:BEST OF THE FEST PACKAGE FOR OKTOBERFEST \nThe BEST of the FEST package is now open for Oktoberfest 2024! The package includes swag\, food\, drink\, access to a reserved seating area\, and more\, is the best way to experience all of the highlights of Oktoberfest. BEST of the FEST packages are limited\, click here to book yours today! \nAll proceeds from this package support Denver Kickers programming and initiatives. \nVOLUNTEERS NEEDED FOR OKTOBERFEST!\nPlanning is well underway for this year’s Oktoberfest\, and we need your help! Please consider signing up for a shift at the event – volunteers are needed in food and drink service\, ticket taking\, booth management\, set-up\, strike\, and many other roles! View all the opportunities using this link\, and for your service\, you’ll be provided with tickets toward a FREE meal from the Denver Kickers tent and a free beverage! \nBE AN OKTOBERFEST SPONSOR\, VENDOR OR DONOR!\nFor Oktoberfest this year\, we are adding some games of chance to the daily events as a way to raise money for youth soccer scholarships. Our good friends at New Terrain have loaned us their giant Plinko board – every player wins a prize! Prizes include Oktoberfest swag\, steins\, gift cards to local restaurants and businesses\, tickets to Colorado Rapids and Denver Broncos games\, private training sessions with Denver Kickers coaches\, and much more! \nWe are still looking to add more prizes leading up to the event. If you are affiliated with a local business and would like to contribute something to our prize selection (tickets\, gift cards\, admission discounts\, free services\, etc.) please reach out to admin@denverkickers.com. We’d be more than happy to sing your praises on social media and at the event. The event draws about 1\,000 people over the course of the weekend\, so it’s a great way to have an impact on the Golden community. You can find out more at denverkickersoktoberfest.com. \nOne other fun addition to the event this year will be a dunking booth! Come by and watch your favorite coach get dunked\, or better yet\, buy a ticket and do it yourself! \nWe also have event sponsorship opportunities\, or vendor booth availability. Sponsorships start at $500 for the weekend\, and vendors can choose a one-day booth or stay for all 3 days. Visit our event website. for more details! \nShare this:\n				Share on Facebook (Opens in new window)\n				Facebook\n			\n				Share on X (Opens in new window)\n				X\n			\n				Share on LinkedIn (Opens in new window)\n				LinkedIn\n			\n				Email a link to a friend (Opens in new window)\n				Email\n			\n				Print (Opens in new window)\n				Print\n			More\n				Share on Reddit (Opens in new window)\n				Reddit\n			\n				Share on Pinterest (Opens in new window)\n				Pinterest\n			\n				Share on Tumblr (Opens in new window)\n				Tumblr
URL:https://denverkickers.com/event/oktoberfest-2024/
LOCATION:Denver Kickers Clubhouse\, 16776 W 50th Ave\, Golden\, CO\,  80403 \, United States
END:VEVENT
BEGIN:VEVENT
DTSTART;VALUE=DATE:20250912
DTEND;VALUE=DATE:20250914
DTSTAMP:20260425T094417
CREATED:20250811T194812Z
LAST-MODIFIED:20250828T162258Z
UID:4706-1757635200-1757807999@denverkickers.com
SUMMARY:Denver Kickers Oktoberfest 2025
DESCRIPTION:  \n \n  \n\nTWO DAY OKOTBERFEST 2025 EVENT\nDenver Kickers Oktoberfest features traditional German food and drinks\, performances by our Schuhplatter dancers\, lively music\, and activities for the whole family. \n  \nVOLUNTEERS NEEDED FOR OKTOBERFEST!\nPlanning is well underway for this year’s Oktoberfest\, and we need your help! Please consider signing up for a shift at the event – volunteers are needed in food and drink service\, ticket taking\, booth management\, set-up\, strike\, and many other roles! View all the opportunities using this link\, and for your service\, you’ll be provided with tickets toward a FREE meal from the Denver Kickers tent and a free beverage! \n  \nBE AN OKTOBERFEST SPONSOR\, VENDOR OR DONOR!\nFor Oktoberfest this year\, we are hosting some games of chance to the daily events as a way to raise money for youth soccer scholarships. Our good friends at New Terrain loaned us their giant Plinko board again! Prizes include Oktoberfest swag\, steins\, and tickets to Denver Broncos games! \nWe are still looking to add more prizes leading up to the event. If you are affiliated with a local business and would like to contribute something to our prize selection (tickets\, gift cards\, admission discounts\, free services\, etc.) please reach out to admin@denverkickers.com. We’d be more than happy to sing your praises on social media and at the event. The event draws about 1\,000 people over the course of the weekend\, so it’s a great way to have an impact on the Golden community. You can find out more at https://oktoberfest.denverkickers.com. \nWe are hosting the dunking booth again! Come by and watch your favorite coach get dunked\, or better yet\, buy a ticket and do it yourself! \nEvent sponsorship opportunities and vendor booths are available. Sponsorships start at $500 for the weekend\, and vendors can choose a one-day booth or stay for all days of the event. Visit our event website. for more details! \n  \nFind more information at our Event Website. \n  \nShare this:\n				Share on Facebook (Opens in new window)\n				Facebook\n			\n				Share on X (Opens in new window)\n				X\n			\n				Share on LinkedIn (Opens in new window)\n				LinkedIn\n			\n				Email a link to a friend (Opens in new window)\n				Email\n			\n				Print (Opens in new window)\n				Print\n			More\n				Share on Reddit (Opens in new window)\n				Reddit\n			\n				Share on Pinterest (Opens in new window)\n				Pinterest\n			\n				Share on Tumblr (Opens in new window)\n				Tumblr
URL:https://denverkickers.com/event/denver-kickers-oktoberfest-2025/
LOCATION:Denver Kickers Clubhouse\, 16776 W 50th Ave\, Golden\, CO\,  80403 \, United States
CATEGORIES:Dances,Events,Schuhplattlers
ORGANIZER;CN="Denver Kickers":MAILTO:admin@denverkickers.com
END:VEVENT
BEGIN:VEVENT
DTSTART;TZID=America/Denver:20260509T173000
DTEND;TZID=America/Denver:20260509T210000
DTSTAMP:20260425T094417
CREATED:20260416T184253Z
LAST-MODIFIED:20260416T194626Z
UID:4944-1778347800-1778360400@denverkickers.com
SUMMARY:Maypole Dance Set for May 9
DESCRIPTION:Click Here to see our event flyer.\n\nThe Denver Kickers Maypole Dance\nJoin us for a vibrant evening of tradition at the Denver Kickers Maypole Dance. This annual celebration centers around the Maibaum (Maypole) ceremony\, a festive ritual that welcomes the arrival of spring. The highlight of the night is the Bandltanz\, where blue and white ribbons are woven into the iconic diamond pattern of the Bavarian flag—a striking display of heritage and community teamwork. \nOur Schuhplattlers will kick off the festivities with their rhythmic\, high-energy performances\, but the real magic happens when you join the circle. We are inviting our guests to grab a ribbon and participate in the winding of the pole. Under the guidance of our dancers\, you will help weave the intricate design while enjoying live music\, authentic food\, and cold drinks. It is the perfect way to experience Gemütlichkeit—that classic German feeling of warmth and belonging. \n\nEvent Details\nPlease join us at the Clubhouse for this fun\, family-friendly evening. Whether you are here to dance or just to enjoy the show\, we look forward to seeing you there. \n\nWhen: Saturday\, May 9 | 5:30 PM – 9:00 PM\nWhere: Denver Kickers Clubhouse\nCost: FREE Admission\nFeaturing: Live Music\, Schuhplattler Performances\, Food\, and Drink\n\nNote: Keep an eye on your neighbors during the weave! One wrong step and we might end up with a “Bavarian knot” instead of a flag—but that is all part of the fun. \n  \n\nShare this:\n				Share on Facebook (Opens in new window)\n				Facebook\n			\n				Share on X (Opens in new window)\n				X\n			\n				Share on LinkedIn (Opens in new window)\n				LinkedIn\n			\n				Email a link to a friend (Opens in new window)\n				Email\n			\n				Print (Opens in new window)\n				Print\n			More\n				Share on Reddit (Opens in new window)\n				Reddit\n			\n				Share on Pinterest (Opens in new window)\n				Pinterest\n			\n				Share on Tumblr (Opens in new window)\n				Tumblr
URL:https://denverkickers.com/event/maypole-dance-set-for-may-9/
LOCATION:Denver Kickers Clubhouse\, 16776 W 50th Ave\, Golden\, CO\,  80403 \, United States
CATEGORIES:Dances,Schuhplattlers
ORGANIZER;CN="Denver Kickers":MAILTO:admin@denverkickers.com
END:VEVENT
END:VCALENDAR