BEGIN:VCALENDAR
VERSION:2.0
PRODID:-//Denver Kickers Sport Club Inc. - ECPv6.15.11//NONSGML v1.0//EN
CALSCALE:GREGORIAN
METHOD:PUBLISH
X-WR-CALNAME:Denver Kickers Sport Club Inc.
X-ORIGINAL-URL:https://denverkickers.com
X-WR-CALDESC:Events for Denver Kickers Sport Club Inc.
REFRESH-INTERVAL;VALUE=DURATION:PT1H
X-Robots-Tag:noindex
X-PUBLISHED-TTL:PT1H
BEGIN:VTIMEZONE
TZID:America/Denver
BEGIN:DAYLIGHT
TZOFFSETFROM:-0700
TZOFFSETTO:-0600
TZNAME:MDT
DTSTART:20240310T090000
END:DAYLIGHT
BEGIN:STANDARD
TZOFFSETFROM:-0600
TZOFFSETTO:-0700
TZNAME:MST
DTSTART:20241103T080000
END:STANDARD
BEGIN:DAYLIGHT
TZOFFSETFROM:-0700
TZOFFSETTO:-0600
TZNAME:MDT
DTSTART:20250309T090000
END:DAYLIGHT
BEGIN:STANDARD
TZOFFSETFROM:-0600
TZOFFSETTO:-0700
TZNAME:MST
DTSTART:20251102T080000
END:STANDARD
BEGIN:DAYLIGHT
TZOFFSETFROM:-0700
TZOFFSETTO:-0600
TZNAME:MDT
DTSTART:20260308T090000
END:DAYLIGHT
BEGIN:STANDARD
TZOFFSETFROM:-0600
TZOFFSETTO:-0700
TZNAME:MST
DTSTART:20261101T080000
END:STANDARD
END:VTIMEZONE
BEGIN:VEVENT
DTSTART;VALUE=DATE:20250912
DTEND;VALUE=DATE:20250914
DTSTAMP:20260423T045515
CREATED:20250811T194812Z
LAST-MODIFIED:20250828T162258Z
UID:4706-1757635200-1757807999@denverkickers.com
SUMMARY:Denver Kickers Oktoberfest 2025
DESCRIPTION:  \n \n  \n\nTWO DAY OKOTBERFEST 2025 EVENT\nDenver Kickers Oktoberfest features traditional German food and drinks\, performances by our Schuhplatter dancers\, lively music\, and activities for the whole family. \n  \nVOLUNTEERS NEEDED FOR OKTOBERFEST!\nPlanning is well underway for this year’s Oktoberfest\, and we need your help! Please consider signing up for a shift at the event – volunteers are needed in food and drink service\, ticket taking\, booth management\, set-up\, strike\, and many other roles! View all the opportunities using this link\, and for your service\, you’ll be provided with tickets toward a FREE meal from the Denver Kickers tent and a free beverage! \n  \nBE AN OKTOBERFEST SPONSOR\, VENDOR OR DONOR!\nFor Oktoberfest this year\, we are hosting some games of chance to the daily events as a way to raise money for youth soccer scholarships. Our good friends at New Terrain loaned us their giant Plinko board again! Prizes include Oktoberfest swag\, steins\, and tickets to Denver Broncos games! \nWe are still looking to add more prizes leading up to the event. If you are affiliated with a local business and would like to contribute something to our prize selection (tickets\, gift cards\, admission discounts\, free services\, etc.) please reach out to admin@denverkickers.com. We’d be more than happy to sing your praises on social media and at the event. The event draws about 1\,000 people over the course of the weekend\, so it’s a great way to have an impact on the Golden community. You can find out more at https://oktoberfest.denverkickers.com. \nWe are hosting the dunking booth again! Come by and watch your favorite coach get dunked\, or better yet\, buy a ticket and do it yourself! \nEvent sponsorship opportunities and vendor booths are available. Sponsorships start at $500 for the weekend\, and vendors can choose a one-day booth or stay for all days of the event. Visit our event website. for more details! \n  \nFind more information at our Event Website. \n  \nShare this:\n				Click to share on Facebook (Opens in new window)\n				Facebook\n			\n				Click to share on X (Opens in new window)\n				X\n			\n				Click to share on LinkedIn (Opens in new window)\n				LinkedIn\n			\n				Click to email a link to a friend (Opens in new window)\n				Email\n			\n				Click to print (Opens in new window)\n				Print\n			More\n				Click to share on Reddit (Opens in new window)\n				Reddit\n			\n				Click to share on Pinterest (Opens in new window)\n				Pinterest\n			\n				Click to share on Tumblr (Opens in new window)\n				Tumblr\n			\n				Click to share on Pocket (Opens in new window)\n				Pocket
URL:https://denverkickers.com/event/denver-kickers-oktoberfest-2025/
LOCATION:Denver Kickers Clubhouse\, 16776 W 50th Ave\, Golden\, CO\,  80403 \, United States
CATEGORIES:Dances,Events,Schuhplattlers
ORGANIZER;CN="Denver Kickers":MAILTO:admin@denverkickers.com
END:VEVENT
END:VCALENDAR